BEGIN:VCALENDAR
VERSION:2.0
PRODID:-//The Guidance Center - Nurture development. Foster resilience. Cultivate well-being. - ECPv6.15.18//NONSGML v1.0//EN
CALSCALE:GREGORIAN
METHOD:PUBLISH
X-ORIGINAL-URL:https://www.guidance-center.org
X-WR-CALDESC:Events for The Guidance Center - Nurture development. Foster resilience. Cultivate well-being.
REFRESH-INTERVAL;VALUE=DURATION:PT1H
X-Robots-Tag:noindex
X-PUBLISHED-TTL:PT1H
BEGIN:VTIMEZONE
TZID:America/Detroit
BEGIN:DAYLIGHT
TZOFFSETFROM:-0500
TZOFFSETTO:-0400
TZNAME:EDT
DTSTART:20290311T070000
END:DAYLIGHT
BEGIN:STANDARD
TZOFFSETFROM:-0400
TZOFFSETTO:-0500
TZNAME:EST
DTSTART:20291104T060000
END:STANDARD
BEGIN:DAYLIGHT
TZOFFSETFROM:-0500
TZOFFSETTO:-0400
TZNAME:EDT
DTSTART:20300310T070000
END:DAYLIGHT
BEGIN:STANDARD
TZOFFSETFROM:-0400
TZOFFSETTO:-0500
TZNAME:EST
DTSTART:20301103T060000
END:STANDARD
BEGIN:DAYLIGHT
TZOFFSETFROM:-0500
TZOFFSETTO:-0400
TZNAME:EDT
DTSTART:20310309T070000
END:DAYLIGHT
BEGIN:STANDARD
TZOFFSETFROM:-0400
TZOFFSETTO:-0500
TZNAME:EST
DTSTART:20311102T060000
END:STANDARD
END:VTIMEZONE
BEGIN:VEVENT
DTSTART;TZID=America/Detroit:20300204T170000
DTEND;TZID=America/Detroit:20300204T183000
DTSTAMP:20260423T013505
CREATED:20250624T193923Z
LAST-MODIFIED:20250624T193946Z
UID:10000568-1896454800-1896460200@www.guidance-center.org
SUMMARY:Community Youth Support Group
DESCRIPTION:Come be a part of an association of youth and young adults ages 13-18 looking to socialize and learn in the community. Snacks and materials will be provided. \nMondays from 5–6:30pm at The Guidance Center\, 26300 Outer Drive\, Lincoln Park\, MI 48146 \nFor more information please contact Youth Peer Support Specialists Daisy Franzel at 734-286-0111 or dfranzel@guidance-center.org\, or Tatiyana Roper at 734-756-2015 or troper@guidance-center.org.
URL:https://www.guidance-center.org/community-calendar-event/community-youth-support-group-2/2030-02-04/
LOCATION:MI
CATEGORIES:Caregivers,Children,Parents
END:VEVENT
BEGIN:VEVENT
DTSTART;TZID=America/Detroit:20300211T170000
DTEND;TZID=America/Detroit:20300211T183000
DTSTAMP:20260423T013505
CREATED:20250624T193923Z
LAST-MODIFIED:20250624T193946Z
UID:10000569-1897059600-1897065000@www.guidance-center.org
SUMMARY:Community Youth Support Group
DESCRIPTION:Come be a part of an association of youth and young adults ages 13-18 looking to socialize and learn in the community. Snacks and materials will be provided. \nMondays from 5–6:30pm at The Guidance Center\, 26300 Outer Drive\, Lincoln Park\, MI 48146 \nFor more information please contact Youth Peer Support Specialists Daisy Franzel at 734-286-0111 or dfranzel@guidance-center.org\, or Tatiyana Roper at 734-756-2015 or troper@guidance-center.org.
URL:https://www.guidance-center.org/community-calendar-event/community-youth-support-group-2/2030-02-11/
LOCATION:MI
CATEGORIES:Caregivers,Children,Parents
END:VEVENT
BEGIN:VEVENT
DTSTART;TZID=America/Detroit:20300218T170000
DTEND;TZID=America/Detroit:20300218T183000
DTSTAMP:20260423T013505
CREATED:20250624T193923Z
LAST-MODIFIED:20250624T193946Z
UID:10000570-1897664400-1897669800@www.guidance-center.org
SUMMARY:Community Youth Support Group
DESCRIPTION:Come be a part of an association of youth and young adults ages 13-18 looking to socialize and learn in the community. Snacks and materials will be provided. \nMondays from 5–6:30pm at The Guidance Center\, 26300 Outer Drive\, Lincoln Park\, MI 48146 \nFor more information please contact Youth Peer Support Specialists Daisy Franzel at 734-286-0111 or dfranzel@guidance-center.org\, or Tatiyana Roper at 734-756-2015 or troper@guidance-center.org.
URL:https://www.guidance-center.org/community-calendar-event/community-youth-support-group-2/2030-02-18/
LOCATION:MI
CATEGORIES:Caregivers,Children,Parents
END:VEVENT
BEGIN:VEVENT
DTSTART;TZID=America/Detroit:20300225T170000
DTEND;TZID=America/Detroit:20300225T183000
DTSTAMP:20260423T013505
CREATED:20250624T193923Z
LAST-MODIFIED:20250624T193946Z
UID:10000571-1898269200-1898274600@www.guidance-center.org
SUMMARY:Community Youth Support Group
DESCRIPTION:Come be a part of an association of youth and young adults ages 13-18 looking to socialize and learn in the community. Snacks and materials will be provided. \nMondays from 5–6:30pm at The Guidance Center\, 26300 Outer Drive\, Lincoln Park\, MI 48146 \nFor more information please contact Youth Peer Support Specialists Daisy Franzel at 734-286-0111 or dfranzel@guidance-center.org\, or Tatiyana Roper at 734-756-2015 or troper@guidance-center.org.
URL:https://www.guidance-center.org/community-calendar-event/community-youth-support-group-2/2030-02-25/
LOCATION:MI
CATEGORIES:Caregivers,Children,Parents
END:VEVENT
END:VCALENDAR