BEGIN:VCALENDAR
VERSION:2.0
PRODID:-//The Guidance Center - Nurture development. Foster resilience. Cultivate well-being. - ECPv6.15.18//NONSGML v1.0//EN
CALSCALE:GREGORIAN
METHOD:PUBLISH
X-ORIGINAL-URL:https://www.guidance-center.org
X-WR-CALDESC:Events for The Guidance Center - Nurture development. Foster resilience. Cultivate well-being.
REFRESH-INTERVAL;VALUE=DURATION:PT1H
X-Robots-Tag:noindex
X-PUBLISHED-TTL:PT1H
BEGIN:VTIMEZONE
TZID:America/Detroit
BEGIN:DAYLIGHT
TZOFFSETFROM:-0500
TZOFFSETTO:-0400
TZNAME:EDT
DTSTART:20280312T070000
END:DAYLIGHT
BEGIN:STANDARD
TZOFFSETFROM:-0400
TZOFFSETTO:-0500
TZNAME:EST
DTSTART:20281105T060000
END:STANDARD
BEGIN:DAYLIGHT
TZOFFSETFROM:-0500
TZOFFSETTO:-0400
TZNAME:EDT
DTSTART:20290311T070000
END:DAYLIGHT
BEGIN:STANDARD
TZOFFSETFROM:-0400
TZOFFSETTO:-0500
TZNAME:EST
DTSTART:20291104T060000
END:STANDARD
BEGIN:DAYLIGHT
TZOFFSETFROM:-0500
TZOFFSETTO:-0400
TZNAME:EDT
DTSTART:20300310T070000
END:DAYLIGHT
BEGIN:STANDARD
TZOFFSETFROM:-0400
TZOFFSETTO:-0500
TZNAME:EST
DTSTART:20301103T060000
END:STANDARD
END:VTIMEZONE
BEGIN:VEVENT
DTSTART;TZID=America/Detroit:20290702T170000
DTEND;TZID=America/Detroit:20290702T183000
DTSTAMP:20260422T145107
CREATED:20250624T193923Z
LAST-MODIFIED:20250624T193946Z
UID:10000537-1877706000-1877711400@www.guidance-center.org
SUMMARY:Community Youth Support Group
DESCRIPTION:Come be a part of an association of youth and young adults ages 13-18 looking to socialize and learn in the community. Snacks and materials will be provided. \nMondays from 5–6:30pm at The Guidance Center\, 26300 Outer Drive\, Lincoln Park\, MI 48146 \nFor more information please contact Youth Peer Support Specialists Daisy Franzel at 734-286-0111 or dfranzel@guidance-center.org\, or Tatiyana Roper at 734-756-2015 or troper@guidance-center.org.
URL:https://www.guidance-center.org/community-calendar-event/community-youth-support-group-2/2029-07-02/
LOCATION:MI
CATEGORIES:Caregivers,Children,Parents
END:VEVENT
BEGIN:VEVENT
DTSTART;TZID=America/Detroit:20290709T170000
DTEND;TZID=America/Detroit:20290709T183000
DTSTAMP:20260422T145107
CREATED:20250624T193923Z
LAST-MODIFIED:20250624T193946Z
UID:10000538-1878310800-1878316200@www.guidance-center.org
SUMMARY:Community Youth Support Group
DESCRIPTION:Come be a part of an association of youth and young adults ages 13-18 looking to socialize and learn in the community. Snacks and materials will be provided. \nMondays from 5–6:30pm at The Guidance Center\, 26300 Outer Drive\, Lincoln Park\, MI 48146 \nFor more information please contact Youth Peer Support Specialists Daisy Franzel at 734-286-0111 or dfranzel@guidance-center.org\, or Tatiyana Roper at 734-756-2015 or troper@guidance-center.org.
URL:https://www.guidance-center.org/community-calendar-event/community-youth-support-group-2/2029-07-09/
LOCATION:MI
CATEGORIES:Caregivers,Children,Parents
END:VEVENT
BEGIN:VEVENT
DTSTART;TZID=America/Detroit:20290716T170000
DTEND;TZID=America/Detroit:20290716T183000
DTSTAMP:20260422T145107
CREATED:20250624T193923Z
LAST-MODIFIED:20250624T193946Z
UID:10000539-1878915600-1878921000@www.guidance-center.org
SUMMARY:Community Youth Support Group
DESCRIPTION:Come be a part of an association of youth and young adults ages 13-18 looking to socialize and learn in the community. Snacks and materials will be provided. \nMondays from 5–6:30pm at The Guidance Center\, 26300 Outer Drive\, Lincoln Park\, MI 48146 \nFor more information please contact Youth Peer Support Specialists Daisy Franzel at 734-286-0111 or dfranzel@guidance-center.org\, or Tatiyana Roper at 734-756-2015 or troper@guidance-center.org.
URL:https://www.guidance-center.org/community-calendar-event/community-youth-support-group-2/2029-07-16/
LOCATION:MI
CATEGORIES:Caregivers,Children,Parents
END:VEVENT
BEGIN:VEVENT
DTSTART;TZID=America/Detroit:20290723T170000
DTEND;TZID=America/Detroit:20290723T183000
DTSTAMP:20260422T145107
CREATED:20250624T193923Z
LAST-MODIFIED:20250624T193946Z
UID:10000540-1879520400-1879525800@www.guidance-center.org
SUMMARY:Community Youth Support Group
DESCRIPTION:Come be a part of an association of youth and young adults ages 13-18 looking to socialize and learn in the community. Snacks and materials will be provided. \nMondays from 5–6:30pm at The Guidance Center\, 26300 Outer Drive\, Lincoln Park\, MI 48146 \nFor more information please contact Youth Peer Support Specialists Daisy Franzel at 734-286-0111 or dfranzel@guidance-center.org\, or Tatiyana Roper at 734-756-2015 or troper@guidance-center.org.
URL:https://www.guidance-center.org/community-calendar-event/community-youth-support-group-2/2029-07-23/
LOCATION:MI
CATEGORIES:Caregivers,Children,Parents
END:VEVENT
BEGIN:VEVENT
DTSTART;TZID=America/Detroit:20290730T170000
DTEND;TZID=America/Detroit:20290730T183000
DTSTAMP:20260422T145107
CREATED:20250624T193923Z
LAST-MODIFIED:20250624T193946Z
UID:10000541-1880125200-1880130600@www.guidance-center.org
SUMMARY:Community Youth Support Group
DESCRIPTION:Come be a part of an association of youth and young adults ages 13-18 looking to socialize and learn in the community. Snacks and materials will be provided. \nMondays from 5–6:30pm at The Guidance Center\, 26300 Outer Drive\, Lincoln Park\, MI 48146 \nFor more information please contact Youth Peer Support Specialists Daisy Franzel at 734-286-0111 or dfranzel@guidance-center.org\, or Tatiyana Roper at 734-756-2015 or troper@guidance-center.org.
URL:https://www.guidance-center.org/community-calendar-event/community-youth-support-group-2/2029-07-30/
LOCATION:MI
CATEGORIES:Caregivers,Children,Parents
END:VEVENT
END:VCALENDAR