BEGIN:VCALENDAR
VERSION:2.0
PRODID:-//The Guidance Center - Nurture development. Foster resilience. Cultivate well-being. - ECPv6.15.18//NONSGML v1.0//EN
CALSCALE:GREGORIAN
METHOD:PUBLISH
X-ORIGINAL-URL:https://www.guidance-center.org
X-WR-CALDESC:Events for The Guidance Center - Nurture development. Foster resilience. Cultivate well-being.
REFRESH-INTERVAL;VALUE=DURATION:PT1H
X-Robots-Tag:noindex
X-PUBLISHED-TTL:PT1H
BEGIN:VTIMEZONE
TZID:America/Detroit
BEGIN:DAYLIGHT
TZOFFSETFROM:-0500
TZOFFSETTO:-0400
TZNAME:EDT
DTSTART:20270314T070000
END:DAYLIGHT
BEGIN:STANDARD
TZOFFSETFROM:-0400
TZOFFSETTO:-0500
TZNAME:EST
DTSTART:20271107T060000
END:STANDARD
BEGIN:DAYLIGHT
TZOFFSETFROM:-0500
TZOFFSETTO:-0400
TZNAME:EDT
DTSTART:20280312T070000
END:DAYLIGHT
BEGIN:STANDARD
TZOFFSETFROM:-0400
TZOFFSETTO:-0500
TZNAME:EST
DTSTART:20281105T060000
END:STANDARD
BEGIN:DAYLIGHT
TZOFFSETFROM:-0500
TZOFFSETTO:-0400
TZNAME:EDT
DTSTART:20290311T070000
END:DAYLIGHT
BEGIN:STANDARD
TZOFFSETFROM:-0400
TZOFFSETTO:-0500
TZNAME:EST
DTSTART:20291104T060000
END:STANDARD
END:VTIMEZONE
BEGIN:VEVENT
DTSTART;TZID=America/Detroit:20281002T170000
DTEND;TZID=America/Detroit:20281002T183000
DTSTAMP:20260420T013941
CREATED:20250624T193923Z
LAST-MODIFIED:20250624T193946Z
UID:10000498-1854118800-1854124200@www.guidance-center.org
SUMMARY:Community Youth Support Group
DESCRIPTION:Come be a part of an association of youth and young adults ages 13-18 looking to socialize and learn in the community. Snacks and materials will be provided. \nMondays from 5–6:30pm at The Guidance Center\, 26300 Outer Drive\, Lincoln Park\, MI 48146 \nFor more information please contact Youth Peer Support Specialists Daisy Franzel at 734-286-0111 or dfranzel@guidance-center.org\, or Tatiyana Roper at 734-756-2015 or troper@guidance-center.org.
URL:https://www.guidance-center.org/community-calendar-event/community-youth-support-group-2/2028-10-02/
LOCATION:MI
CATEGORIES:Caregivers,Children,Parents
END:VEVENT
BEGIN:VEVENT
DTSTART;TZID=America/Detroit:20281009T170000
DTEND;TZID=America/Detroit:20281009T183000
DTSTAMP:20260420T013941
CREATED:20250624T193923Z
LAST-MODIFIED:20250624T193946Z
UID:10000499-1854723600-1854729000@www.guidance-center.org
SUMMARY:Community Youth Support Group
DESCRIPTION:Come be a part of an association of youth and young adults ages 13-18 looking to socialize and learn in the community. Snacks and materials will be provided. \nMondays from 5–6:30pm at The Guidance Center\, 26300 Outer Drive\, Lincoln Park\, MI 48146 \nFor more information please contact Youth Peer Support Specialists Daisy Franzel at 734-286-0111 or dfranzel@guidance-center.org\, or Tatiyana Roper at 734-756-2015 or troper@guidance-center.org.
URL:https://www.guidance-center.org/community-calendar-event/community-youth-support-group-2/2028-10-09/
LOCATION:MI
CATEGORIES:Caregivers,Children,Parents
END:VEVENT
BEGIN:VEVENT
DTSTART;TZID=America/Detroit:20281016T170000
DTEND;TZID=America/Detroit:20281016T183000
DTSTAMP:20260420T013941
CREATED:20250624T193923Z
LAST-MODIFIED:20250624T193946Z
UID:10000500-1855328400-1855333800@www.guidance-center.org
SUMMARY:Community Youth Support Group
DESCRIPTION:Come be a part of an association of youth and young adults ages 13-18 looking to socialize and learn in the community. Snacks and materials will be provided. \nMondays from 5–6:30pm at The Guidance Center\, 26300 Outer Drive\, Lincoln Park\, MI 48146 \nFor more information please contact Youth Peer Support Specialists Daisy Franzel at 734-286-0111 or dfranzel@guidance-center.org\, or Tatiyana Roper at 734-756-2015 or troper@guidance-center.org.
URL:https://www.guidance-center.org/community-calendar-event/community-youth-support-group-2/2028-10-16/
LOCATION:MI
CATEGORIES:Caregivers,Children,Parents
END:VEVENT
BEGIN:VEVENT
DTSTART;TZID=America/Detroit:20281023T170000
DTEND;TZID=America/Detroit:20281023T183000
DTSTAMP:20260420T013941
CREATED:20250624T193923Z
LAST-MODIFIED:20250624T193946Z
UID:10000501-1855933200-1855938600@www.guidance-center.org
SUMMARY:Community Youth Support Group
DESCRIPTION:Come be a part of an association of youth and young adults ages 13-18 looking to socialize and learn in the community. Snacks and materials will be provided. \nMondays from 5–6:30pm at The Guidance Center\, 26300 Outer Drive\, Lincoln Park\, MI 48146 \nFor more information please contact Youth Peer Support Specialists Daisy Franzel at 734-286-0111 or dfranzel@guidance-center.org\, or Tatiyana Roper at 734-756-2015 or troper@guidance-center.org.
URL:https://www.guidance-center.org/community-calendar-event/community-youth-support-group-2/2028-10-23/
LOCATION:MI
CATEGORIES:Caregivers,Children,Parents
END:VEVENT
BEGIN:VEVENT
DTSTART;TZID=America/Detroit:20281030T170000
DTEND;TZID=America/Detroit:20281030T183000
DTSTAMP:20260420T013941
CREATED:20250624T193923Z
LAST-MODIFIED:20250624T193946Z
UID:10000502-1856538000-1856543400@www.guidance-center.org
SUMMARY:Community Youth Support Group
DESCRIPTION:Come be a part of an association of youth and young adults ages 13-18 looking to socialize and learn in the community. Snacks and materials will be provided. \nMondays from 5–6:30pm at The Guidance Center\, 26300 Outer Drive\, Lincoln Park\, MI 48146 \nFor more information please contact Youth Peer Support Specialists Daisy Franzel at 734-286-0111 or dfranzel@guidance-center.org\, or Tatiyana Roper at 734-756-2015 or troper@guidance-center.org.
URL:https://www.guidance-center.org/community-calendar-event/community-youth-support-group-2/2028-10-30/
LOCATION:MI
CATEGORIES:Caregivers,Children,Parents
END:VEVENT
END:VCALENDAR