BEGIN:VCALENDAR
VERSION:2.0
PRODID:-//The Guidance Center - Nurture development. Foster resilience. Cultivate well-being. - ECPv6.15.18//NONSGML v1.0//EN
CALSCALE:GREGORIAN
METHOD:PUBLISH
X-WR-CALNAME:The Guidance Center - Nurture development. Foster resilience. Cultivate well-being.
X-ORIGINAL-URL:https://www.guidance-center.org
X-WR-CALDESC:Events for The Guidance Center - Nurture development. Foster resilience. Cultivate well-being.
REFRESH-INTERVAL;VALUE=DURATION:PT1H
X-Robots-Tag:noindex
X-PUBLISHED-TTL:PT1H
BEGIN:VTIMEZONE
TZID:America/Detroit
BEGIN:DAYLIGHT
TZOFFSETFROM:-0500
TZOFFSETTO:-0400
TZNAME:EDT
DTSTART:20240310T070000
END:DAYLIGHT
BEGIN:STANDARD
TZOFFSETFROM:-0400
TZOFFSETTO:-0500
TZNAME:EST
DTSTART:20241103T060000
END:STANDARD
BEGIN:DAYLIGHT
TZOFFSETFROM:-0500
TZOFFSETTO:-0400
TZNAME:EDT
DTSTART:20250309T070000
END:DAYLIGHT
BEGIN:STANDARD
TZOFFSETFROM:-0400
TZOFFSETTO:-0500
TZNAME:EST
DTSTART:20251102T060000
END:STANDARD
BEGIN:DAYLIGHT
TZOFFSETFROM:-0500
TZOFFSETTO:-0400
TZNAME:EDT
DTSTART:20260308T070000
END:DAYLIGHT
BEGIN:STANDARD
TZOFFSETFROM:-0400
TZOFFSETTO:-0500
TZNAME:EST
DTSTART:20261101T060000
END:STANDARD
END:VTIMEZONE
BEGIN:VEVENT
DTSTART;TZID=America/Detroit:20250509T090000
DTEND;TZID=America/Detroit:20250509T103000
DTSTAMP:20260421T051900
CREATED:20221220T205842Z
LAST-MODIFIED:20250411T164016Z
UID:10000012-1746781200-1746786600@www.guidance-center.org
SUMMARY:TALK. LISTEN. CONNECT.
DESCRIPTION:Free Mini Parenting Conference hosted by The Guidance Center \nCome join us for some helpful information on career and postsecondary planning for students. This webinar will help you as a parent and your student to prepare for whatever path they choose after high school. You will also learn about what signs to watch out for\, if they are struggling with stress or emotional difficulties\, and where to find help and access resources as they venture off to college or into the workforce.  \nPresented by Paul Carlin\, MA\, LPC\, Career Counselor\nand Allison Smith\, LMSW\, School Success Initiative Clinician \nClick here to register via Zoom.\nFor more information contact Lisa Horvath at lhorvath@guidance-center.org or 734-785-7705 x7361.\nThis workshop will be recorded.
URL:https://www.guidance-center.org/community-calendar-event/talk-listen-connect/
LOCATION:Zoom\, MI\, United States
CATEGORIES:Adult,Caregivers,Parents
END:VEVENT
END:VCALENDAR