BEGIN:VCALENDAR
VERSION:2.0
PRODID:-//The Guidance Center - Nurture development. Foster resilience. Cultivate well-being. - ECPv6.15.18//NONSGML v1.0//EN
CALSCALE:GREGORIAN
METHOD:PUBLISH
X-ORIGINAL-URL:https://www.guidance-center.org
X-WR-CALDESC:Events for The Guidance Center - Nurture development. Foster resilience. Cultivate well-being.
REFRESH-INTERVAL;VALUE=DURATION:PT1H
X-Robots-Tag:noindex
X-PUBLISHED-TTL:PT1H
BEGIN:VTIMEZONE
TZID:America/Detroit
BEGIN:DAYLIGHT
TZOFFSETFROM:-0500
TZOFFSETTO:-0400
TZNAME:EDT
DTSTART:20240310T070000
END:DAYLIGHT
BEGIN:STANDARD
TZOFFSETFROM:-0400
TZOFFSETTO:-0500
TZNAME:EST
DTSTART:20241103T060000
END:STANDARD
BEGIN:DAYLIGHT
TZOFFSETFROM:-0500
TZOFFSETTO:-0400
TZNAME:EDT
DTSTART:20250309T070000
END:DAYLIGHT
BEGIN:STANDARD
TZOFFSETFROM:-0400
TZOFFSETTO:-0500
TZNAME:EST
DTSTART:20251102T060000
END:STANDARD
BEGIN:DAYLIGHT
TZOFFSETFROM:-0500
TZOFFSETTO:-0400
TZNAME:EDT
DTSTART:20260308T070000
END:DAYLIGHT
BEGIN:STANDARD
TZOFFSETFROM:-0400
TZOFFSETTO:-0500
TZNAME:EST
DTSTART:20261101T060000
END:STANDARD
END:VTIMEZONE
BEGIN:VEVENT
DTSTART;TZID=America/Detroit:20250227T170000
DTEND;TZID=America/Detroit:20250227T190000
DTSTAMP:20260421T093921
CREATED:20250219T170938Z
LAST-MODIFIED:20250219T170938Z
UID:10000311-1740675600-1740682800@www.guidance-center.org
SUMMARY:Know Your Rights:  Special Education Information Session
DESCRIPTION:What Are Special Education Rights? \nKnowing and advocating for rights within the special education system is an important part of helping your child grow\, learn\, and reach their potential. Join the Autism Alliance of Michigan’s Director of Statewide Education to explore effective advocacy strategies to increase opportunities and improve outcomes for students with disabilities.\n\nTopics covered: \n\nExplore the IEP Process (Child Find / Eligibility)\nUnderstand Least Restrictive Environment\nLearn Effective Advocacy Strategies\nDiscuss Current Challenges for Students and Families\n\nBuilding 4\, Door D (Located at the back of the building)\n13101 Allen Rd.\nSouthgate\, MI 48195 \nQuestions?\nContact Heather Eckner: heather.eckner@aaomi.org\nClick here to register.
URL:https://www.guidance-center.org/community-calendar-event/know-your-rights/
LOCATION:The Guidance Center Building 4\, 13101 Allen Road\, Southgate\, MI\, 48195
CATEGORIES:Adult,Caregivers,Parents
END:VEVENT
END:VCALENDAR